BEGIN:VCALENDAR
VERSION:2.0
PRODID:-//wp-events-plugin.com//7.2.3.1//EN
TZID:America/Argentina/Cordoba
X-WR-TIMEZONE:America/Argentina/Cordoba
BEGIN:VEVENT
UID:0-603@ffyh.unc.edu.ar
DTSTART:20230403T130000Z
DTEND:20230403T130000Z
DTSTAMP:20230330T183047Z
URL:https://ffyh.unc.edu.ar/eventos/17453/
SUMMARY:Taller: "Explorando aulas virtuales"
DESCRIPTION:La Secretaría de Asuntos Estudiantiles y el Área de Tecnolog
 ía Educativa invitan a recorrer juntes las principales herramientas que p
 ueden utilizar como estudiantes dentro de la plataforma de aulas virtuales
  de la Facultad\, que se realizará el martes 4 de abril\, a las 13 hs\, e
 n el Laboratorio de Casa Verde.\n\n
ATTACH;FMTTYPE=image/jpeg:https://ffyh.unc.edu.ar/wp-content/uploads/2023/
 03/AV-ESTUDIANTES-EXPLORANDO.png
CATEGORIES:Jornadas
LOCATION:Pabellón Casa Verde\, Ciudad Universitaria\, Córdoba\, Córdoba\
 , Argentina
GEO:-31.4374167;-64.18897420000002
X-APPLE-STRUCTURED-LOCATION;VALUE=URI;X-ADDRESS=Ciudad Universitaria\, Cór
 doba\, Córdoba\, Argentina;X-APPLE-RADIUS=100;X-TITLE=Pabellón Casa Verd
 e:geo:-31.4374167,-64.18897420000002
END:VEVENT
END:VCALENDAR