BEGIN:VCALENDAR
VERSION:2.0
PRODID:-//wp-events-plugin.com//7.2.3.1//EN
TZID:America/Argentina/Cordoba
X-WR-TIMEZONE:America/Argentina/Cordoba
BEGIN:VEVENT
UID:0-513@ffyh.unc.edu.ar
DTSTART:20220901T000000Z
DTEND:20220901T000000Z
DTSTAMP:20220920T162718Z
URL:https://ffyh.unc.edu.ar/eventos/6-congreso-de-genero-y-sociedad/
SUMMARY:6° Congreso de Género y Sociedad
DESCRIPTION:Del 21 al 23 de septiembre\, desde las 9 a las 20 hs\, la Unive
 rsidad Nacional de Córdoba será nuevamente lugar de encuentro\, de debat
 es y reflexiones sobre los feminismos y activismos de la disidencia.\n\n
ATTACH;FMTTYPE=image/jpeg:https://ffyh.unc.edu.ar/wp-content/uploads/2022/
 09/6-congreso-genero.jpg
CATEGORIES:Congresos
END:VEVENT
END:VCALENDAR