BEGIN:VCALENDAR
VERSION:2.0
PRODID:-//wp-events-plugin.com//7.2.3.1//EN
TZID:America/Argentina/Cordoba
X-WR-TIMEZONE:America/Argentina/Cordoba
BEGIN:VEVENT
UID:0-734@ffyh.unc.edu.ar
DTSTART:20231127T140000Z
DTEND:20231215T140000Z
DTSTAMP:20231206T185617Z
URL:https://ffyh.unc.edu.ar/eventos/abren-las-inscripciones-para-el-ingres
 o-2024/
SUMMARY:Abren las inscripciones para el Ingreso 2024
DESCRIPTION:La inscripción será del 27 de noviembre al 15 de diciembre po
 r el Sistema Guaraní.\n\n
ATTACH;FMTTYPE=image/jpeg:https://ffyh.unc.edu.ar/wp-content/uploads/2023/
 11/ingreso-2024-2.jpeg
CATEGORIES:Convocatorias
END:VEVENT
END:VCALENDAR