BEGIN:VCALENDAR
VERSION:2.0
PRODID:-//wp-events-plugin.com//7.2.3.1//EN
TZID:America/Argentina/Cordoba
X-WR-TIMEZONE:America/Argentina/Cordoba
BEGIN:VEVENT
UID:0-115@ffyh.unc.edu.ar
DTSTART:20180912T080000Z
DTEND:20180912T090000Z
DTSTAMP:20180912T154904Z
URL:https://ffyh.unc.edu.ar/eventos/actividad-intercatedras-servicios-en-l
 a-biblioteca/
SUMMARY:Actividad intercátedras: Servicios en la biblioteca
DESCRIPTION:Miércoles 12 de septiembre\, 15 horas\, Aula A - Pabellón Agu
 stín Tosco.\n\nOrganizan: Cátedras de primer y segundo año de la Escuel
 a de Bibliotecología.
ATTACH;FMTTYPE=image/jpeg:https://ffyh.unc.edu.ar/wp-content/uploads/2018/
 09/Mesa-de-trabajo-19.jpg
LOCATION:Pabellón Agustín Tosco\, Ciudad Universitaria\, Córdoba\, Argen
 tina
GEO:-31.4374167;-64.18897420000002
X-APPLE-STRUCTURED-LOCATION;VALUE=URI;X-ADDRESS=Ciudad Universitaria\, Cór
 doba\, Argentina;X-APPLE-RADIUS=100;X-TITLE=Pabellón Agustín Tosco:geo:-
 31.4374167,-64.18897420000002
END:VEVENT
END:VCALENDAR