BEGIN:VCALENDAR
VERSION:2.0
PRODID:-//wp-events-plugin.com//7.2.3.1//EN
TZID:America/Argentina/Cordoba
X-WR-TIMEZONE:America/Argentina/Cordoba
BEGIN:VEVENT
UID:0-237@ffyh.unc.edu.ar
DTSTART:20191017T100000Z
DTEND:20191017T100000Z
DTSTAMP:20191017T201533Z
URL:https://ffyh.unc.edu.ar/eventos/actividades-con-lila-caimari-en-cordob
 a/
SUMMARY:Actividades con Lila Caimari en Córdoba
DESCRIPTION:La Dra. Lila Caimari\, investigadora adjunta del Consejo Nacion
 al de Investigaciones Científicas y Técnicas\, estará en Córdoba parti
 cipando de dos actividades. El 17 de octubre dará una clase magistral sob
 re Circulaciones en la Cultura: cables\, vapores y prensa a las 16 hs. en 
 el Pabellón Haití de Ciudad Universitaria. Mientras que el 18 de octubre
 \, participará de Un recorrido historiográfico. Conversaciones con Lila 
 Caimari en el Salón Azul del CIECS CONICET/ UNC a las 17 hs.\n\n
ATTACH;FMTTYPE=image/jpeg:https://ffyh.unc.edu.ar/wp-content/uploads/2019/
 10/Visita-de-Lila-Caimari-clase-magistral.jpg
CATEGORIES:Conferencias
END:VEVENT
END:VCALENDAR