BEGIN:VCALENDAR
VERSION:2.0
PRODID:-//wp-events-plugin.com//7.2.3.1//EN
TZID:America/Argentina/Cordoba
X-WR-TIMEZONE:America/Argentina/Cordoba
BEGIN:VEVENT
UID:0-463@ffyh.unc.edu.ar
DTSTART:20220819T000000Z
DTEND:20220819T000000Z
DTSTAMP:20220818T194731Z
URL:https://ffyh.unc.edu.ar/eventos/apertura-cuarta-cohorte-de-la-especial
 izacion-en-psicopedagogia-escolar/
SUMMARY:Apertura | Cuarta cohorte de la Especialización en Psicopedagogía
  Escolar
DESCRIPTION:La Secretaría de Posgrado de la UNC informa que se encuentran 
 abiertas las inscripciones para la cuarta cohorte de la Especialización e
 n Psicopedagogía Escolar.\n\n
ATTACH;FMTTYPE=image/jpeg:https://ffyh.unc.edu.ar/wp-content/uploads/2022/
 06/apertura-psicopedagogia1.jpg
CATEGORIES:Convocatorias,Jornadas
LOCATION:Pabellón República Bolivariana de Venezuela\, Ciudad Universitar
 ia\, Córdoba\, Córdoba\, Argentina
GEO:-31.4374167;-64.18897420000002
X-APPLE-STRUCTURED-LOCATION;VALUE=URI;X-ADDRESS=Ciudad Universitaria\, Cór
 doba\, Córdoba\, Argentina;X-APPLE-RADIUS=100;X-TITLE=Pabellón Repúblic
 a Bolivariana de Venezuela:geo:-31.4374167,-64.18897420000002
END:VEVENT
END:VCALENDAR