BEGIN:VCALENDAR
VERSION:2.0
PRODID:-//wp-events-plugin.com//7.2.3.1//EN
TZID:America/Argentina/Cordoba
X-WR-TIMEZONE:America/Argentina/Cordoba
BEGIN:VEVENT
UID:0-230@ffyh.unc.edu.ar
DTSTART:20191008T150000Z
DTEND:20191008T170000Z
DTSTAMP:20190926T162000Z
URL:https://ffyh.unc.edu.ar/eventos/archi-investiga/
SUMMARY:Archi Investiga
DESCRIPTION:La Secretaría de Investigación\, Ciencia y Técnica de la FFy
 H invita a participar de este encuentro que se llevará a cabo el martes 8
  de octubre\, a las 15 hs\, en la Sala B del Pabellón Residencial.\n\n
ATTACH;FMTTYPE=image/jpeg:https://ffyh.unc.edu.ar/wp-content/uploads/2019/
 09/archi-investiga.jpg
CATEGORIES:Jornadas
LOCATION:Pabellón Residencial\, Ciudad Universitaria\, Córdoba\, Argentin
 a
GEO:-31.4374167;-64.18897420000002
X-APPLE-STRUCTURED-LOCATION;VALUE=URI;X-ADDRESS=Ciudad Universitaria\, Cór
 doba\, Argentina;X-APPLE-RADIUS=100;X-TITLE=Pabellón Residencial:geo:-31.
 4374167,-64.18897420000002
END:VEVENT
END:VCALENDAR