BEGIN:VCALENDAR
VERSION:2.0
PRODID:-//wp-events-plugin.com//7.2.3.1//EN
TZID:America/Argentina/Cordoba
X-WR-TIMEZONE:America/Argentina/Cordoba
BEGIN:VEVENT
UID:0-680@ffyh.unc.edu.ar
DTSTART:20230908T000000Z
DTEND:20230908T000000Z
DTSTAMP:20230908T210118Z
URL:https://ffyh.unc.edu.ar/eventos/arde-cordoba/
SUMMARY:Arde Córdoba
DESCRIPTION:El sábado 9 de septiembre\, de 15 a 22 hs\, en el Museo de Ant
 ropologías se realizará la intervención de Arde Córdoba.\n\n
ATTACH;FMTTYPE=image/jpeg:https://ffyh.unc.edu.ar/wp-content/uploads/2023/
 09/arde-cba-1.jpeg
CATEGORIES:Cultura,Jornadas
LOCATION:Museo de Antropología\, Av. Hipólito Yrigoyen 174\, Córdoba\, A
 rgentina
GEO:-31.4227348;-64.1878188
X-APPLE-STRUCTURED-LOCATION;VALUE=URI;X-ADDRESS=Av. Hipólito Yrigoyen 174\
 , Córdoba\, Argentina;X-APPLE-RADIUS=100;X-TITLE=Museo de Antropología:g
 eo:-31.4227348,-64.1878188
END:VEVENT
END:VCALENDAR