BEGIN:VCALENDAR
VERSION:2.0
PRODID:-//wp-events-plugin.com//7.2.3.1//EN
TZID:America/Argentina/Cordoba
X-WR-TIMEZONE:America/Argentina/Cordoba
BEGIN:VEVENT
UID:0-389@ffyh.unc.edu.ar
DTSTART:20211210T000000Z
DTEND:20211210T000000Z
DTSTAMP:20211202T202101Z
URL:https://ffyh.unc.edu.ar/eventos/becas-estimulo-a-las-vocaciones-cienti
 ficas-evc/
SUMMARY:Becas Estímulo a las Vocaciones Científicas (EVC)
DESCRIPTION:El Consejo Interuniversitario Nacional comunica una prórroga p
 ara el envío de postulaciones a las Becas Estímulo a las Vocaciones Cien
 tíficas (EVC-CIN). La nueva fecha tope de envío es el 10 de diciembre\, 
 a las 13 hs.\n\n
ATTACH;FMTTYPE=image/jpeg:https://ffyh.unc.edu.ar/wp-content/uploads/2021/
 10/WhatsApp-Image-2021-12-02-at-8.58.05-AM.jpeg
CATEGORIES:Becas
END:VEVENT
END:VCALENDAR