BEGIN:VCALENDAR
VERSION:2.0
PRODID:-//wp-events-plugin.com//7.2.3.1//EN
TZID:America/Argentina/Cordoba
X-WR-TIMEZONE:America/Argentina/Cordoba
BEGIN:VEVENT
UID:0-539@ffyh.unc.edu.ar
DTSTART:20221027T080000Z
DTEND:20221027T080000Z
DTSTAMP:20221018T204107Z
URL:https://ffyh.unc.edu.ar/eventos/campana-de-donacion-de-sangre-en-la-ff
 yh/
SUMMARY:Campaña de donación de sangre en la FFyH
DESCRIPTION:Desde la Secretaría de Políticas de Inclusión Social y Justi
 cia Ambiental y la Secretaría de Política(s) de Géneros y Transfeminism
 os del CEFFyH\, junto con el Banco de Sangre UNC\, invitan a participar de
  la colecta de sangre\, que se realizará el jueves 27 de octubre\, de 8 a
  12 hs\, en la planta baja del Pabellón Venezuela.\n\n
ATTACH;FMTTYPE=image/jpeg:https://ffyh.unc.edu.ar/wp-content/uploads/2022/
 10/donacion-sangre.jpeg
CATEGORIES:Cultura
LOCATION:Pabellón República Bolivariana de Venezuela\, Ciudad Universitar
 ia\, Córdoba\, Córdoba\, Argentina
GEO:-31.4374167;-64.18897420000002
X-APPLE-STRUCTURED-LOCATION;VALUE=URI;X-ADDRESS=Ciudad Universitaria\, Cór
 doba\, Córdoba\, Argentina;X-APPLE-RADIUS=100;X-TITLE=Pabellón Repúblic
 a Bolivariana de Venezuela:geo:-31.4374167,-64.18897420000002
END:VEVENT
END:VCALENDAR