BEGIN:VCALENDAR
VERSION:2.0
PRODID:-//wp-events-plugin.com//7.2.3.1//EN
TZID:America/Argentina/Cordoba
X-WR-TIMEZONE:America/Argentina/Cordoba
BEGIN:VEVENT
UID:0-323@ffyh.unc.edu.ar
DTSTART:20210331T110000Z
DTEND:20210331T110000Z
DTSTAMP:20210326T204051Z
URL:https://ffyh.unc.edu.ar/eventos/charla-becas-y-otras-politicas-de-incl
 usion/
SUMMARY:Charla: Becas y otras políticas de inclusión
DESCRIPTION:El miércoles 31 de marzo\, la Secretaría de Asuntos Estudiant
 iles de la FFyH invita a participar de una charla con temática de becas y
  otras políticas de inclusión\, destinado a estudiantes de la Facultad d
 e Filosofía y Humanidades.\n\n
ATTACH;FMTTYPE=image/jpeg:https://ffyh.unc.edu.ar/wp-content/uploads/2021/
 03/instagram-sae.jpg
CATEGORIES:Conferencias,Jornadas
END:VEVENT
END:VCALENDAR