BEGIN:VCALENDAR
VERSION:2.0
PRODID:-//wp-events-plugin.com//7.2.3.1//EN
TZID:America/Argentina/Cordoba
X-WR-TIMEZONE:America/Argentina/Cordoba
BEGIN:VEVENT
UID:0-832@ffyh.unc.edu.ar
DTSTART:20240927T113000Z
DTEND:20240927T113000Z
DTSTAMP:20240923T152446Z
URL:https://ffyh.unc.edu.ar/eventos/charla-estar-estando-archivos-memorias
 -y-museos/
SUMMARY:Charla «Estar Estando. Archivos\, memorias y museos»
DESCRIPTION:En el marco del Proyecto Institucional de la Escuela de Filosof
 ía “Improntas de la Dictadura en el campo filosófico de Córdoba”\, 
 el viernes 27 de septiembre\, a las 11.30 hs\, en el Aula Verdugo del Pabe
 llón Francia\, se llevará a cabo la charla "Estar Estando. Archivos\, me
 morias y museos"\, a cargo de Natalia Magrin (IAPCS- UNVM) y Juan Muñoz (
 UNJu / Museo Nacional Terry). Coordinan: Paula Hunziker (Directora-Escuela
  de Filosofía) y Cecilia Pacella (Directora-Escuela de Letras).\n\n
ATTACH;FMTTYPE=image/jpeg:https://ffyh.unc.edu.ar/wp-content/uploads/2024/
 09/estar-estando-2.jpeg
CATEGORIES:Conferencias
END:VEVENT
END:VCALENDAR