BEGIN:VCALENDAR
VERSION:2.0
PRODID:-//wp-events-plugin.com//7.2.3.1//EN
TZID:America/Argentina/Cordoba
X-WR-TIMEZONE:America/Argentina/Cordoba
BEGIN:VEVENT
UID:0-518@ffyh.unc.edu.ar
DTSTART:20220920T110000Z
DTEND:20220920T110000Z
DTSTAMP:20220919T195636Z
URL:https://ffyh.unc.edu.ar/eventos/charla-informativa-inscripcion-a-concu
 rsos-docentes/
SUMMARY:Charla informativa: Inscripción a Concursos Docentes
DESCRIPTION:La Secretaría Académica y el Área Profesorado y Concursos in
 vitan a una charla informativa sobre inscripción a concursos docentes med
 iante SIGEVA\, que se llevará adelante el martes 20 de septiembre de 11 a
  12:30 horas\, de manera virtual\, a través del siguiente enlace: https:/
 /meet.google.com/ouc-upnx-mtf?hs=224\n\n
ATTACH;FMTTYPE=image/jpeg:https://ffyh.unc.edu.ar/wp-content/uploads/2022/
 05/charla-cargos-docentes-2022-1.jpg
CATEGORIES:Jornadas
END:VEVENT
END:VCALENDAR