BEGIN:VCALENDAR
VERSION:2.0
PRODID:-//wp-events-plugin.com//7.2.3.1//EN
TZID:America/Argentina/Cordoba
X-WR-TIMEZONE:America/Argentina/Cordoba
BEGIN:VEVENT
UID:0-420@ffyh.unc.edu.ar
DTSTART;TZID=America/Argentina/Cordoba:20220411T140000
DTEND;TZID=America/Argentina/Cordoba:20220411T140000
DTSTAMP:20220411T200929Z
URL:https://ffyh.unc.edu.ar/eventos/charla-informativa-presencial-sobre-ca
 rrera-docente/
SUMMARY:Charla informativa sobre Carrera Docente
DESCRIPTION:La Secretaría Académica y el Área Profesorado y Concursos de
  la Facultad de Filosofía y Humanidades\, comunican que el lunes 11 de ab
 ril\, de 14 a 16 horas\, se llevará a cabo de manera presencial la primer
 a charla informativa sobre Inscripción a Evaluación de desempeño docent
 e (carrera docente) en la cual se abordarán aspectos vinculados a la insc
 ripción de los/ as interesados/ as a través del Sistema Integral de Gest
 ión y Evaluación (SIGEVA)\, y se desarrollará en el Aula D (planta baja
 ) del Pabellón Residencial.\n\n
ATTACH;FMTTYPE=image/jpeg:https://ffyh.unc.edu.ar/wp-content/uploads/2022/
 04/charla-carrera-docente.jpg
CATEGORIES:Concursos,Jornadas
LOCATION:Pabellón Residencial\, Ciudad Universitaria\, Córdoba\, Argentin
 a
GEO:-31.4374167;-64.18897420000002
X-APPLE-STRUCTURED-LOCATION;VALUE=URI;X-ADDRESS=Ciudad Universitaria\, Cór
 doba\, Argentina;X-APPLE-RADIUS=100;X-TITLE=Pabellón Residencial:geo:-31.
 4374167,-64.18897420000002
END:VEVENT
BEGIN:VTIMEZONE
TZID:America/Argentina/Cordoba
X-LIC-LOCATION:America/Argentina/Cordoba
BEGIN:STANDARD
DTSTART:20210411T140000
TZOFFSETFROM:-0300
TZOFFSETTO:-0300
TZNAME:-03
END:STANDARD
END:VTIMEZONE
END:VCALENDAR