BEGIN:VCALENDAR
VERSION:2.0
PRODID:-//wp-events-plugin.com//7.2.3.1//EN
TZID:America/Argentina/Cordoba
X-WR-TIMEZONE:America/Argentina/Cordoba
BEGIN:VEVENT
UID:0-652@ffyh.unc.edu.ar
DTSTART:20230705T000000Z
DTEND:20230705T000000Z
DTSTAMP:20230628T165902Z
URL:https://ffyh.unc.edu.ar/eventos/charla-informativa-sobre-el-ingreso-a-
 la-carrera-diplomatica/
SUMMARY:Charla informativa sobre el ingreso a la carrera diplomática
DESCRIPTION:En el marco del Ciclo Nuevos perfiles para Egresadxs de Humani
 dades y Ciencias Sociales\, lxs invitamos a la primera charla que será di
 ctada por Mariel Ruffet\, representante del Instituto del Servicio Exterio
 r de la Nación (ISEN)\, organismo dependiente de la Cancillería\, a carg
 o de la selección\, incorporación y formación de los/as profesionales a
 rgentinos/as al servicio diplomático-consular de la República Argentina.
  La actividad se desarrollará el miércoles 5 de julio\, a las 18 hs.\, e
 n el Aula D del Pabellón Residencial (Ciudad Universitaria).\n\n
ATTACH;FMTTYPE=image/jpeg:https://ffyh.unc.edu.ar/wp-content/uploads/2023/
 06/flyer-cancilleria.jpeg
CATEGORIES:Conferencias
END:VEVENT
END:VCALENDAR