BEGIN:VCALENDAR
VERSION:2.0
PRODID:-//wp-events-plugin.com//7.2.3.1//EN
TZID:America/Argentina/Cordoba
X-WR-TIMEZONE:America/Argentina/Cordoba
BEGIN:VEVENT
UID:0-533@ffyh.unc.edu.ar
DTSTART:20221014T000000Z
DTEND:20221014T000000Z
DTSTAMP:20221014T194141Z
URL:https://ffyh.unc.edu.ar/eventos/ciclo-de-cine-sobrevivencias/
SUMMARY:Ciclo de Cine «Sobrevivencias»
DESCRIPTION:El 14 de octubre a las 18 hs se presentará en el Museo de Antr
 opologías el documental “Sexo y Revolución”\, la primera película d
 el Ciclo de Cine- Debate LGTTTBIQ+ “Sobrevivencias” organizado por 
 el Área Travesti\, Trans y No Binarie de la Facultad de Filosofía y Huma
 nidades en conjunto con el Museo de Antropologías.\n\n
ATTACH;FMTTYPE=image/jpeg:https://ffyh.unc.edu.ar/wp-content/uploads/2022/
 10/sexo-revolucion.jpeg
CATEGORIES:Cultura
LOCATION:Museo de Antropología\, Av. Hipólito Yrigoyen 174\, Córdoba\, A
 rgentina
GEO:-31.4227348;-64.1878188
X-APPLE-STRUCTURED-LOCATION;VALUE=URI;X-ADDRESS=Av. Hipólito Yrigoyen 174\
 , Córdoba\, Argentina;X-APPLE-RADIUS=100;X-TITLE=Museo de Antropología:g
 eo:-31.4227348,-64.1878188
END:VEVENT
END:VCALENDAR