BEGIN:VCALENDAR
VERSION:2.0
PRODID:-//wp-events-plugin.com//7.2.3.1//EN
TZID:America/Argentina/Cordoba
X-WR-TIMEZONE:America/Argentina/Cordoba
BEGIN:VEVENT
UID:0-795@ffyh.unc.edu.ar
DTSTART:20240703T000000Z
DTEND:20240703T000000Z
DTSTAMP:20240703T194658Z
URL:https://ffyh.unc.edu.ar/eventos/ciclo-de-cine-y-debate-brasil-quema/
SUMMARY:Ciclo de cine y debate «Brasil quema»
DESCRIPTION:La Cátedra Libre de Cultura Brasileña de la Escuela de Letras
  inaugura el Ciclo Cine y Debate “Brasil quema”\, junto con el Centro 
 Cultural UNC y el Consulado General de Brasil en Córdoba. La primera proy
 ección será el miércoles 03 de julio a las 18:30 h en el Centro Cultura
 l de la UNC (Obispo Trejo 314\, Córdoba).\n\n
ATTACH;FMTTYPE=image/jpeg:https://ffyh.unc.edu.ar/wp-content/uploads/2024/
 06/ciclo-cine-brasil.jpeg
CATEGORIES:Cultura
END:VEVENT
END:VCALENDAR