BEGIN:VCALENDAR
VERSION:2.0
PRODID:-//wp-events-plugin.com//7.2.3.1//EN
TZID:America/Argentina/Cordoba
X-WR-TIMEZONE:America/Argentina/Cordoba
BEGIN:VEVENT
UID:0-664@ffyh.unc.edu.ar
DTSTART:20230731T000000Z
DTEND:20230814T000000Z
DTSTAMP:20230731T154618Z
URL:https://ffyh.unc.edu.ar/eventos/ciclo-de-formacion-derechos-humanos-en
 -contextos-de-encierro-2/
SUMMARY:Ciclo de Formación: Derechos Humanos en Contextos de Encierro
DESCRIPTION:El Programa Universitario en la Cárcel y el Programa de Derech
 os Humanos convocan a adscriptxs y ayudantes alumnes del PUC\, tutorxs dis
 ciplinares\, cátedras que dicten sus materias en el PUC y a la comunidad 
 universitaria interesada en la temática a participar de un ciclo de forma
 ción para desandar algunos nudos problemáticos de la relación entre la 
 universidad y la cárcel.\n\nInscripciones: desde el lunes 31 de julio has
 ta 14 de agosto\, en el siguiente formulario https://docs.google.com/forms
 /d/e/1FAIpQLSdJUzFM2GQMkuYIwkaU3K0rnHDYpWLV6MjAj8A39Tbju-KMrQ/viewform\n\n
ATTACH;FMTTYPE=image/jpeg:https://ffyh.unc.edu.ar/wp-content/uploads/2023/
 07/jornadas-ddhh-puc.jpeg
CATEGORIES:Jornadas
END:VEVENT
END:VCALENDAR