BEGIN:VCALENDAR
VERSION:2.0
PRODID:-//wp-events-plugin.com//7.2.3.1//EN
TZID:America/Argentina/Cordoba
X-WR-TIMEZONE:America/Argentina/Cordoba
BEGIN:VEVENT
UID:0-53@ffyh.unc.edu.ar
DTSTART;TZID=America/Argentina/Cordoba:20180504T160000
DTEND;TZID=America/Argentina/Cordoba:20180504T180000
DTSTAMP:20180502T170220Z
URL:https://ffyh.unc.edu.ar/eventos/ciclo-de-formacion-y-debate-una-reform
 a-silenciosa-tensiones-de-una-transformacion-en-curso/
SUMMARY:Ciclo de formación y debate "UNA REFORMA SILENCIOSA. Tensiones de 
 una transformación en curso"
DESCRIPTION:Organizado por la Organizado por la Cátedra Libre Deodoro Roca
  de ADIUC y la FFyH\, se llevará a cabo a través de dos encuentros\, lo
 s días 4 de mayo y 1 de junio\, a las 16 hs. \, en la Sede de ADIUC (Ciud
 ad Universitaria).\n\n
ATTACH;FMTTYPE=image/jpeg:https://ffyh.unc.edu.ar/wp-content/uploads/2018/
 05/flyer-reforma.jpg
CATEGORIES:Jornadas
LOCATION:Adiuc nueva sede\, Ciudad Universitaria\, Córdoba\, Córdoba\, 50
 00\, Argentina
GEO:-31.438772;-64.18896689999997
X-APPLE-STRUCTURED-LOCATION;VALUE=URI;X-ADDRESS=Ciudad Universitaria\, Cór
 doba\, Córdoba\, 5000\, Argentina;X-APPLE-RADIUS=100;X-TITLE=Adiuc nueva 
 sede:geo:-31.438772,-64.18896689999997
END:VEVENT
BEGIN:VTIMEZONE
TZID:America/Argentina/Cordoba
X-LIC-LOCATION:America/Argentina/Cordoba
BEGIN:STANDARD
DTSTART:20170504T160000
TZOFFSETFROM:-0300
TZOFFSETTO:-0300
TZNAME:-03
END:STANDARD
END:VTIMEZONE
END:VCALENDAR