BEGIN:VCALENDAR
VERSION:2.0
PRODID:-//wp-events-plugin.com//7.2.3.1//EN
TZID:America/Argentina/Cordoba
X-WR-TIMEZONE:America/Argentina/Cordoba
BEGIN:VEVENT
UID:0-373@ffyh.unc.edu.ar
DTSTART:20210910T180000Z
DTEND:20210910T200000Z
DTSTAMP:20210830T161221Z
URL:https://ffyh.unc.edu.ar/eventos/ciclo-escrito-en-filo-2021/
SUMMARY:Ciclo “Escrito en Filo” 2021
DESCRIPTION:Organizado por el Área de Filosofía del CIFFyH y la Escuela d
 e Filosofía\, el estreno será el viernes 10 de septiembre\, a las 18 hs\
 , en https://youtu.be/egUDU1PSErI
ATTACH;FMTTYPE=image/jpeg:https://ffyh.unc.edu.ar/wp-content/uploads/2021/
 08/escrito-en-filo-2021.jpg
CATEGORIES:Jornadas
END:VEVENT
END:VCALENDAR