BEGIN:VCALENDAR
VERSION:2.0
PRODID:-//wp-events-plugin.com//7.2.3.1//EN
TZID:America/Argentina/Cordoba
X-WR-TIMEZONE:America/Argentina/Cordoba
BEGIN:VEVENT
UID:0-479@ffyh.unc.edu.ar
DTSTART:20220811T160000Z
DTEND:20220811T160000Z
DTSTAMP:20220804T201720Z
URL:https://ffyh.unc.edu.ar/eventos/ciclo-filosofias-en-viaje/
SUMMARY:Ciclo “Filosofías en Viaje”
DESCRIPTION:Está organizado por la Escuela de Filosofía de la FFyH y comi
 enza el jueves 11 de agosto. La conversación propuesta se titula “Volve
 r sobre la historia”\, a cargo de Jazmín Ferreiro (profesora de Filosof
 ía Antigua y Medieval\, UNGS-UBA).\n\n
ATTACH;FMTTYPE=image/jpeg:https://ffyh.unc.edu.ar/wp-content/uploads/2022/
 08/filosofias-en-viaje-web.jpg
CATEGORIES:Conferencias,Cultura
END:VEVENT
END:VCALENDAR