BEGIN:VCALENDAR
VERSION:2.0
PRODID:-//wp-events-plugin.com//7.2.3.1//EN
TZID:America/Argentina/Cordoba
X-WR-TIMEZONE:America/Argentina/Cordoba
BEGIN:VEVENT
UID:0-481@ffyh.unc.edu.ar
DTSTART:20220817T000000Z
DTEND:20220817T000000Z
DTSTAMP:20220817T201814Z
URL:https://ffyh.unc.edu.ar/eventos/ciclo-filosofias-y-presentes/
SUMMARY:Ciclo: Filosofía(s) y Presente(s)
DESCRIPTION:La primera actividad de 2022 será la presentación del libro 
 “Tocqueville en el fin del mundo. La Generación de 1837 y la Ciencia Po
 lítica argentina”\, de Gabriela Rodríguez Rial y se llevará a cabo el
  miércoles 17 de agosto\, a las 18.30 hs\, en el Museo de Antropologías 
 (Av. Hipólito Yirigoyen 177). Presentan: Carolina Rusca y Sebastián Torr
 es.\n\n
ATTACH;FMTTYPE=image/jpeg:https://ffyh.unc.edu.ar/wp-content/uploads/2022/
 08/tocqueville-2022.jpeg
CATEGORIES:Cultura
END:VEVENT
END:VCALENDAR