BEGIN:VCALENDAR
VERSION:2.0
PRODID:-//wp-events-plugin.com//7.2.3.1//EN
TZID:America/Argentina/Cordoba
X-WR-TIMEZONE:America/Argentina/Cordoba
BEGIN:VEVENT
UID:0-497@ffyh.unc.edu.ar
DTSTART:20221028T000000Z
DTEND:20221028T000000Z
DTSTAMP:20221021T161841Z
URL:https://ffyh.unc.edu.ar/eventos/ciclo-torna-africa-segundo-cuatrimestr
 e/
SUMMARY:Ciclo “Torna-AFRICA” | Segundo cuatrimestre
DESCRIPTION:El viernes 26 de agosto comienzan las nuevas actividades del ci
 clo organizado por el Doctorado en Historia de la FFyH\, el Programa de Es
 tudios Africanos del CEA (Facultad de Ciencias Sociales) y el Programa de 
 Investigación sobre África y su Diáspora en América Latina (AFRYDAL) d
 el CIECS-CONICET. La propuesta pretende poner en discusión problemáticas
  necesarias para comprender la situación actual del continente africano.\
 n\n
ATTACH;FMTTYPE=image/jpeg:https://ffyh.unc.edu.ar/wp-content/uploads/2022/
 08/ciclo-torna-africa-2-cuat-web.jpeg
CATEGORIES:Conferencias
LOCATION:Pabellón Residencial\, Ciudad Universitaria\, Córdoba\, Argentin
 a
GEO:-31.4374167;-64.18897420000002
X-APPLE-STRUCTURED-LOCATION;VALUE=URI;X-ADDRESS=Ciudad Universitaria\, Cór
 doba\, Argentina;X-APPLE-RADIUS=100;X-TITLE=Pabellón Residencial:geo:-31.
 4374167,-64.18897420000002
END:VEVENT
END:VCALENDAR