BEGIN:VCALENDAR
VERSION:2.0
PRODID:-//wp-events-plugin.com//7.2.3.1//EN
TZID:America/Argentina/Cordoba
X-WR-TIMEZONE:America/Argentina/Cordoba
BEGIN:VEVENT
UID:0-257@ffyh.unc.edu.ar
DTSTART:20191120T190000Z
DTEND:20191120T210000Z
DTSTAMP:20191119T165536Z
URL:https://ffyh.unc.edu.ar/eventos/cine-debate-escuela-bomba-dolor-y-luch
 a-en-moreno/
SUMMARY:Cine Debate: "ESCUELA BOMBA. Dolor y lucha en Moreno"
DESCRIPTION:El miércoles 20 de noviembre\, a las 19 hs\, en el Aula 1 del 
 Pabellón Casa Verde (Ciudad Universitaria)\, se realizará la presentaci
 ón del documental del Departamento de Educación de la Universidad Nacion
 al de Luján y dirigido por Juan Mascaró sobre la explosión en la Escuel
 a N° 49 de Moreno que costó la vida de Sandra Calamano y Rubén Rodrigue
 z. La actividad contará con la participación de Matías E. Remolgao\, do
 cente del Departamento de Educación de la Universidad Nacional de Luján\
 n\n
ATTACH;FMTTYPE=image/jpeg:https://ffyh.unc.edu.ar/wp-content/uploads/2019/
 11/escuela-bomba.jpg
CATEGORIES:Cultura
LOCATION:Pabellón Casa Verde\, Ciudad Universitaria\, Córdoba\, Córdoba\
 , Argentina
GEO:-31.4374167;-64.18897420000002
X-APPLE-STRUCTURED-LOCATION;VALUE=URI;X-ADDRESS=Ciudad Universitaria\, Cór
 doba\, Córdoba\, Argentina;X-APPLE-RADIUS=100;X-TITLE=Pabellón Casa Verd
 e:geo:-31.4374167,-64.18897420000002
END:VEVENT
END:VCALENDAR