BEGIN:VCALENDAR
VERSION:2.0
PRODID:-//wp-events-plugin.com//7.2.3.1//EN
TZID:America/Argentina/Cordoba
X-WR-TIMEZONE:America/Argentina/Cordoba
BEGIN:VEVENT
UID:0-543@ffyh.unc.edu.ar
DTSTART:20221105T160000Z
DTEND:20221105T160000Z
DTSTAMP:20221025T200517Z
URL:https://ffyh.unc.edu.ar/eventos/cine-en-el-barrio-turning-red/
SUMMARY:Cine en el barrio “Turning RED”
DESCRIPTION:En el marco del proyecto: "Cine en el barrio. Mujeres migrantes
  y derecho a la cultura"\, el sábado 5 de noviembre a las 16hs en Manzana
  8-Lote 2 \, local de Yésica en Barrio Los Artesanos se proyectará el la
 rgometraje infantil: “Turning RED”.\n\n
ATTACH;FMTTYPE=image/jpeg:https://ffyh.unc.edu.ar/wp-content/uploads/2022/
 10/cine-red.jpg
CATEGORIES:Cultura
END:VEVENT
END:VCALENDAR