BEGIN:VCALENDAR
VERSION:2.0
PRODID:-//wp-events-plugin.com//7.2.3.1//EN
TZID:America/Argentina/Cordoba
X-WR-TIMEZONE:America/Argentina/Cordoba
BEGIN:VEVENT
UID:0-418@ffyh.unc.edu.ar
DTSTART:20220602T180000Z
DTEND:20220602T210000Z
DTSTAMP:20220603T172953Z
URL:https://ffyh.unc.edu.ar/eventos/comienza-el-ciclo-torna-africa/
SUMMARY:Ciclo “Torna-AFRICA”
DESCRIPTION:Organizado por el Doctorado en Historia de la FFyH\, el Program
 a de Estudios Africanos del CEA (Facultad de Ciencias Sociales) y el Progr
 ama de Investigación sobre África y su Diáspora en América Latina (AFR
 YDAL) del CIECS-CONICET\, el 25 de abril será la primera clase magistral\
 , a cargo de Antonio Morone\, de la Universidad de Pavía (Italia). La pro
 puesta pretende poner en discusión problemáticas necesarias para compren
 der la situación actual del continente africano.\n\n
ATTACH;FMTTYPE=image/jpeg:https://ffyh.unc.edu.ar/wp-content/uploads/2022/
 04/ciclo-torna-africa-web.jpg
CATEGORIES:Conferencias,Jornadas
END:VEVENT
END:VCALENDAR