BEGIN:VCALENDAR
VERSION:2.0
PRODID:-//wp-events-plugin.com//7.2.3.1//EN
TZID:America/Argentina/Cordoba
X-WR-TIMEZONE:America/Argentina/Cordoba
BEGIN:VEVENT
UID:0-117@ffyh.unc.edu.ar
DTSTART:20180914T180000Z
DTEND:20180914T200000Z
DTSTAMP:20180910T210622Z
URL:https://ffyh.unc.edu.ar/eventos/conferencia-lectura-en-trance-a-cargo-
 de-alan-pauls/
SUMMARY:Conferencia "Lectura en trance"\, a cargo de Alan Pauls  
DESCRIPTION:En el marco del ciclo Profesor Invitado\, organizado por la Esc
 uela de Letras de la FFyH\, el viernes 14 de septiembre\, a las 18 hs\, e
 n la Sala Foyer del Museo Emilio Caraffa (Av. Poeta Lugones 411)\, se lle
 vará a cabo la conferencia Lectura en trance\, a cargo del escritor Alan
  Pauls.\n\nEste ciclo se trata de un espacio de formación\, discusión e 
 intercambio entre docentes de universidades argentinas y extranjeras\, y e
 studiantes\, egresados y docentes de la Escuela de Letras.\n\nLee la entre
 vista a Alan Pauls en la revista Alfilo:\n\n[embed]https://ffyh.unc.edu.ar
 /alfilo/la-vida-de-artista-es-la-unica-vida-legitima/[/embed]\n\nAlan Paul
 s nació en 1959\, es Licenciado en Letras por la UBA donde se desempeñó
  como profesor de Teoría Literaria en los años ochenta\; ha sido guionis
 ta de películas dirigidas por Eduardo Calcagno\, Cristian Pauls y Fito Pa
 ez\; autor de guiones para televisión\; columnista de cine y literatura e
 n programas como Cable a Tierra y Badía &amp\; Cía\; trabajó también c
 omo periodista en el suplemento cultural del diario Página/12\, fue jefe 
 de redacción de la revista Página/30\, y subeditor del suplemento Radar.
  Condujo y presentó el ciclo televisivo Primer plano\, un programa de cin
 e. Fundó la revista Lecturas críticas\, publicación de investigación y
  teoría literaria en la vuelta a la democracia. Ha publicado novelas como
  El pudor del pornógrafo (1984)\, El coloquio (1990)\, Wasabi (1994) o El
  pasado (2003)\, por la cual ganó el Premio Herralde. Entre 2007 y 2013 p
 ublicó Historia del pelo\, Historia del llanto e Historia del dinero\, qu
 e puede leerse como una trilogía de los setenta en Argentina. Como ensayi
 sta ha publicado Manuel Puig. La traición de Rita Hayworth (1986)\, Lino 
 Palacio. La infancia de la risa (1995)\, Cómo se escribe el diario íntim
 o (1996)\, El factor Borges (1996)\, La vida descalzo (2006)\, Temas lento
 s (2012) y Trance (2018).\n\n
ATTACH;FMTTYPE=image/jpeg:https://ffyh.unc.edu.ar/wp-content/uploads/2018/
 09/pauls.jpg
CATEGORIES:Cultura
LOCATION:Museo Emilio Caraffa\, Av. Poeta Lugones 411\, Córdoba\, Argentin
 a
GEO:-31.4277269;-64.18308609999997
X-APPLE-STRUCTURED-LOCATION;VALUE=URI;X-ADDRESS=Av. Poeta Lugones 411\, Có
 rdoba\, Argentina;X-APPLE-RADIUS=100;X-TITLE=Museo Emilio Caraffa:geo:-31.
 4277269,-64.18308609999997
END:VEVENT
END:VCALENDAR