BEGIN:VCALENDAR
VERSION:2.0
PRODID:-//wp-events-plugin.com//7.2.3.1//EN
TZID:America/Argentina/Cordoba
X-WR-TIMEZONE:America/Argentina/Cordoba
BEGIN:VEVENT
UID:0-78@ffyh.unc.edu.ar
DTSTART:20180702T160000Z
DTEND:20180702T180000Z
DTSTAMP:20180626T185103Z
URL:https://ffyh.unc.edu.ar/eventos/conferencia-un-nuevo-papiro-de-euripid
 es/
SUMMARY:Conferencia “Un nuevo papiro de Eurípides”
DESCRIPTION:La conferencia “Un nuevo papiro de Eurípides”\, a cargo de
  Patrick John Finglass\, se realizará el lunes 2 de julio\, a las 16 hs.\
 , en la Sala A del Pabellón Residencial (Ciudad Universitaria).\n\n
ATTACH;FMTTYPE=image/jpeg:https://ffyh.unc.edu.ar/wp-content/uploads/2018/
 06/profesro-invitado-finglass.jpg
CATEGORIES:Cultura
LOCATION:Pabellón Residencial\, Ciudad Universitaria\, Córdoba\, Argentin
 a
GEO:-31.4374167;-64.18897420000002
X-APPLE-STRUCTURED-LOCATION;VALUE=URI;X-ADDRESS=Ciudad Universitaria\, Cór
 doba\, Argentina;X-APPLE-RADIUS=100;X-TITLE=Pabellón Residencial:geo:-31.
 4374167,-64.18897420000002
END:VEVENT
END:VCALENDAR