BEGIN:VCALENDAR
VERSION:2.0
PRODID:-//wp-events-plugin.com//7.2.3.1//EN
TZID:America/Argentina/Cordoba
X-WR-TIMEZONE:America/Argentina/Cordoba
BEGIN:VEVENT
UID:0-71@ffyh.unc.edu.ar
DTSTART:20180619T140000Z
DTEND:20180619T160000Z
DTSTAMP:20180613T183414Z
URL:https://ffyh.unc.edu.ar/eventos/construyendo-practicas-transformativas
 -desde-el-dialogo-de-saberes/
SUMMARY:“Construyendo prácticas transformativas desde el diálogo de sab
 eres”
DESCRIPTION:En el marco del Seminario “Curricularización de las práctic
 as extensionistas desde la perspectiva del diálogo de saberes en contexto
 s multi e interculturales” a cargo de Cesar Marchesino y José María Bo
 mpadre\, se llevará a cabo la jornada “Construyendo prácticas transfor
 mativas desde el diálogo de saberes”\,  dictada por la docente invitad
 a María Carolina Llorens\, que se desarrollará el martes 19 de junio\,
  a las 14 horas en el Aula de Extensión del Pabellón Brujas.\n\nSe 
 entregarán certificados de asistencia\n\n\n\nMaría Carolina Llorens\n\nL
 ic. en Psicología y Psicoterapeuta Gestáltica. Trabaja en dos áreas\, l
 a psicología clínica y la psicología social comunitaria\, especialmente
  en temáticas de género y de violencia. Participó con el Consejo de Org
 anizaciones Indígenas de Jujuy\, en el desarrollo de metodologías de abo
 rdaje intercultural de las problemáticas de violencia hacia las mujeres y
  en la actualidad es miembro del Equipo de Género del Movimiento Campesin
 o de Córdoba (MNCI-CLOC-VC)\, coordinando “Escuelas Populares de Géner
 o”.
ATTACH;FMTTYPE=image/jpeg:https://ffyh.unc.edu.ar/wp-content/uploads/2018/
 06/flyer-llorens.jpg
CATEGORIES:Jornadas
LOCATION:Pabellón Brujas\, Ciudad Universitaria\, Córdoba\, Córdoba\, 50
 00\, Argentina
GEO:-31.438772;-64.18896689999997
X-APPLE-STRUCTURED-LOCATION;VALUE=URI;X-ADDRESS=Ciudad Universitaria\, Cór
 doba\, Córdoba\, 5000\, Argentina;X-APPLE-RADIUS=100;X-TITLE=Pabellón Br
 ujas:geo:-31.438772,-64.18896689999997
END:VEVENT
END:VCALENDAR