BEGIN:VCALENDAR
VERSION:2.0
PRODID:-//wp-events-plugin.com//7.2.3.1//EN
TZID:America/Argentina/Cordoba
X-WR-TIMEZONE:America/Argentina/Cordoba
BEGIN:VEVENT
UID:0-400@ffyh.unc.edu.ar
DTSTART:20211206T180000Z
DTEND:20211206T180000Z
DTSTAMP:20211201T160744Z
URL:https://ffyh.unc.edu.ar/eventos/conversatorio-a-20-anos-del-2001/
SUMMARY:Conversatorio a 20 años del 2001
DESCRIPTION:El Conversatorio a 20 años del 2001\, se realizará el día lu
 nes 6 de diciembre\, a las 18.00 hs\, con la participación de Mónica Gor
 dillo (UNC/CONICET)\, Ezequiel Adamovsky (UBA/UNSAM/CONICET) y Ariel Petru
 ccelli (UNCo). El encuentro será transmitido en vivo por el canal Youtube
  de la Escuela de Historia: https://www.youtube.com/historiaunc\n\n
ATTACH;FMTTYPE=image/jpeg:https://ffyh.unc.edu.ar/wp-content/uploads/2021/
 12/Conversatorio-2001.jpg
CATEGORIES:Conferencias
END:VEVENT
END:VCALENDAR