BEGIN:VCALENDAR
VERSION:2.0
PRODID:-//wp-events-plugin.com//7.2.3.1//EN
TZID:America/Argentina/Cordoba
X-WR-TIMEZONE:America/Argentina/Cordoba
BEGIN:VEVENT
UID:0-370@ffyh.unc.edu.ar
DTSTART:20210903T100000Z
DTEND:20210903T100000Z
DTSTAMP:20210820T172737Z
URL:https://ffyh.unc.edu.ar/eventos/conversatorio-licencias-creative-commo
 ns-y-elaboracion-de-resumenes-para-trabajos-finales/
SUMMARY:Conversatorio "Licencias Creative Commons" y "Elaboración de resú
 menes para trabajos finales"
DESCRIPTION:La Secretaría Académica y la Biblioteca Central de la FFyH in
 vitan al conversatorio "Licencias Creative Commons" y "Elaboración de res
 úmenes para trabajos finales"\, a cargo de la Bibliotecaria Nora Fernánd
 ez y el Lic. Federico Zeballos\, a realizarse el viernes 3 de septiembre\,
  a las 10 hs por google meet.\n\n
ATTACH;FMTTYPE=image/jpeg:https://ffyh.unc.edu.ar/wp-content/uploads/2021/
 08/Flyer-Conversatorio-Biblio-3-de-sep.jpeg
CATEGORIES:Jornadas
END:VEVENT
END:VCALENDAR