BEGIN:VCALENDAR
VERSION:2.0
PRODID:-//wp-events-plugin.com//7.2.3.1//EN
TZID:America/Argentina/Cordoba
X-WR-TIMEZONE:America/Argentina/Cordoba
BEGIN:VEVENT
UID:0-379@ffyh.unc.edu.ar
DTSTART:20210930T183000Z
DTEND:20210930T203000Z
DTSTAMP:20210921T172543Z
URL:https://ffyh.unc.edu.ar/eventos/conversatorio-para-ayudantes-alumnxs-y
 -adscriptxs/
SUMMARY:Conversatorio para ayudantes-alumnxs y adscriptxs
DESCRIPTION:Jueves 30 de septiembre\, de 18:30 a 20:30 hs. \n\n
ATTACH;FMTTYPE=image/jpeg:https://ffyh.unc.edu.ar/wp-content/uploads/2021/
 09/conversatorio-ayudantes-adscriptos-academica.jpg
CATEGORIES:Jornadas
END:VEVENT
END:VCALENDAR