BEGIN:VCALENDAR
VERSION:2.0
PRODID:-//wp-events-plugin.com//7.2.3.1//EN
TZID:America/Argentina/Cordoba
X-WR-TIMEZONE:America/Argentina/Cordoba
BEGIN:VEVENT
UID:0-342@ffyh.unc.edu.ar
DTSTART:20210527T160000Z
DTEND:20210527T160000Z
DTSTAMP:20210521T172029Z
URL:https://ffyh.unc.edu.ar/eventos/conversatorio-que-pasa-en-colombia-par
 o-protestas-y-represion/
SUMMARY:Conversatorio: ¿Qué pasa en Colombia? Paro\, Protestas y Represi
 ón
DESCRIPTION:Así se titula la actividad que se llevará a cabo el jueves 27
  de mayo\, a las 16hs\, por el canal de YouTube del Museo de Antropología
  de la FFyH. La charla tiene como fin reflexionar\, junto a docentes e inv
 estigadores colombianos\, sobre las diversas dimensiones del actual confli
 cto que se vive en Colombia. ¿Qué particularidades tiene este nuevo conf
 licto en Colombia? ¿Quiénes son los actores y colectivos movilizados en 
 las protestas callejeras? ¿Cómo se ligan las luchas del presente a las m
 emorias sobre el pasado?\n\n
ATTACH;FMTTYPE=image/jpeg:https://ffyh.unc.edu.ar/wp-content/uploads/2021/
 05/conversastorio-colombia.jpg
CATEGORIES:Conferencias
END:VEVENT
END:VCALENDAR