BEGIN:VCALENDAR
VERSION:2.0
PRODID:-//wp-events-plugin.com//7.2.3.1//EN
TZID:America/Argentina/Cordoba
X-WR-TIMEZONE:America/Argentina/Cordoba
BEGIN:VEVENT
UID:0-590@ffyh.unc.edu.ar
DTSTART:20230512T000000Z
DTEND:20230512T000000Z
DTSTAMP:20230512T200248Z
URL:https://ffyh.unc.edu.ar/eventos/convocatoria-abierta-de-la-revista-ape
 rtura/
SUMMARY:Convocatoria abierta de la Revista Apertura - Prorroga hasta el 15 
 de mayo
DESCRIPTION:El Comité editorial de la Revista Apertura llama a la presenta
 ción de trabajos para ser  publicados en su edición N° 6.
ATTACH;FMTTYPE=image/jpeg:https://ffyh.unc.edu.ar/wp-content/uploads/2023/
 03/prorroga-apertura-2023.jpeg
CATEGORIES:Convocatorias
END:VEVENT
END:VCALENDAR