BEGIN:VCALENDAR
VERSION:2.0
PRODID:-//wp-events-plugin.com//7.2.3.1//EN
TZID:America/Argentina/Cordoba
X-WR-TIMEZONE:America/Argentina/Cordoba
BEGIN:VEVENT
UID:0-575@ffyh.unc.edu.ar
DTSTART:20230206T000000Z
DTEND:20230206T000000Z
DTSTAMP:20221219T175410Z
URL:https://ffyh.unc.edu.ar/eventos/convocatoria-abierta-revista-sintesis/
SUMMARY:Convocatoria abierta | Revista Síntesis
DESCRIPTION:Hasta 6 de febrero de 2023  se reciben trabajos para la revist
 a Síntesis\, que reúne artículos producidos por les egresades de la FFy
 H\, a partir de las investigaciones vinculadas a Trabajos Finales de Licen
 ciatura y Prácticas Profesionales Supervisadas.\n\n
ATTACH;FMTTYPE=image/jpeg:https://ffyh.unc.edu.ar/wp-content/uploads/2022/
 12/convocatoria-sintesis-2023.png
CATEGORIES:Convocatorias
END:VEVENT
END:VCALENDAR