BEGIN:VCALENDAR
VERSION:2.0
PRODID:-//wp-events-plugin.com//7.2.3.1//EN
TZID:America/Argentina/Cordoba
X-WR-TIMEZONE:America/Argentina/Cordoba
BEGIN:VEVENT
UID:0-542@ffyh.unc.edu.ar
DTSTART:20221031T000000Z
DTEND:20221103T000000Z
DTSTAMP:20221103T201120Z
URL:https://ffyh.unc.edu.ar/eventos/convocatoria-de-intercambio-para-docen
 tes-de-la-unc-del-programa-pila/
SUMMARY:Convocatoria de intercambio para docentes de la UNC del Programa PI
 LA
DESCRIPTION:La Prosecretaría de Relaciones Internacionales e Interinstituc
 ionales de la FFyH\, informa que se encuentra abierta una nueva convocator
 ia de intercambio para docentes de la Universidad Nacional de Córdoba del
  Programa PILA.\n\n
ATTACH;FMTTYPE=image/jpeg:https://ffyh.unc.edu.ar/wp-content/uploads/2022/
 10/Portada-web-PILA-docente.png
CATEGORIES:Convocatorias
END:VEVENT
END:VCALENDAR