BEGIN:VCALENDAR
VERSION:2.0
PRODID:-//wp-events-plugin.com//7.2.3.1//EN
TZID:America/Argentina/Cordoba
X-WR-TIMEZONE:America/Argentina/Cordoba
BEGIN:VEVENT
UID:0-269@ffyh.unc.edu.ar
DTSTART:20200214T100000Z
DTEND:20200326T100000Z
DTSTAMP:20200214T173925Z
URL:https://ffyh.unc.edu.ar/eventos/convocatoria-para-la-presentacion-de-p
 royectos-de-formacion-continua-2020/
SUMMARY:Convocatoria para la presentación de Proyectos de Formación Conti
 nua 2020
DESCRIPTION:El Área de Formación Continua de la Secretaría de Extensi
 ón de la FFyH informa que se encuentra abierta la Convocatoria para la p
 resentación de proyectos de formación continua 2020. Los proyectos se re
 cibirán hasta el jueves 26 de marzo por correo electrónico: formacioncon
 tinua@ffyh.unc.edu.ar\n\n
ATTACH;FMTTYPE=image/jpeg:https://ffyh.unc.edu.ar/wp-content/uploads/2020/
 02/85217845_3274873642557287_3111805699756130304_o.jpg
CATEGORIES:Convocatorias
LOCATION:Pabellón Brujas\, Ciudad Universitaria\, Córdoba\, Córdoba\, 50
 00\, Argentina
GEO:-31.434531825032558;-64.1891171037048
X-APPLE-STRUCTURED-LOCATION;VALUE=URI;X-ADDRESS=Ciudad Universitaria\, Cór
 doba\, Córdoba\, 5000\, Argentina;X-APPLE-RADIUS=100;X-TITLE=Pabellón Br
 ujas:geo:-31.434531825032558,-64.1891171037048
END:VEVENT
END:VCALENDAR