BEGIN:VCALENDAR
VERSION:2.0
PRODID:-//wp-events-plugin.com//7.2.3.1//EN
TZID:America/Argentina/Cordoba
X-WR-TIMEZONE:America/Argentina/Cordoba
BEGIN:VEVENT
UID:0-164@ffyh.unc.edu.ar
DTSTART:20190219T000000Z
DTEND:20190306T000000Z
DTSTAMP:20190225T193820Z
URL:https://ffyh.unc.edu.ar/eventos/convocatoria-para-presentacion-de-proy
 ectos-de-formacion-continua-2019-2/
SUMMARY:Convocatoria para presentación de proyectos de formación continua
  2019
DESCRIPTION:La Secretaría de Extensión de la FFyH informa que se encuentr
 a abierta la Convocatoria para la presentación de proyectos de formació
 n continua CON y SIN PUNTAJE docente a desarrollarse durante el 2019. La
  fecha de recepción de los mismos es miércoles 6 de marzo.
ATTACH;FMTTYPE=image/jpeg:https://ffyh.unc.edu.ar/wp-content/uploads/2019/
 02/prorroga-formacion-continua.jpg
CATEGORIES:Convocatorias
LOCATION:Pabellón Brujas\, Ciudad Universitaria\, Córdoba\, Córdoba\, 50
 00\, Argentina
GEO:-31.434531825032558;-64.1891171037048
X-APPLE-STRUCTURED-LOCATION;VALUE=URI;X-ADDRESS=Ciudad Universitaria\, Cór
 doba\, Córdoba\, 5000\, Argentina;X-APPLE-RADIUS=100;X-TITLE=Pabellón Br
 ujas:geo:-31.434531825032558,-64.1891171037048
END:VEVENT
END:VCALENDAR