BEGIN:VCALENDAR
VERSION:2.0
PRODID:-//wp-events-plugin.com//7.2.3.1//EN
TZID:America/Argentina/Cordoba
X-WR-TIMEZONE:America/Argentina/Cordoba
BEGIN:VEVENT
UID:0-124@ffyh.unc.edu.ar
DTSTART:20181001T000000Z
DTEND:20181026T000000Z
DTSTAMP:20181011T162829Z
URL:https://ffyh.unc.edu.ar/eventos/convocatoria-permanente-de-la-revista-
 etcetera/
SUMMARY:Convocatoria permanente de la revista Etcétera
DESCRIPTION:Luego de la publicación del segundo número de la revista Etc
 étera\, publicación digital del Área de Ciencias Sociales del CIFFyH\, 
 el colectivo editorial tiene el agrado de informarles que la convocatoria 
 estará abierta de forma PERMANENTE para la recepción de contribuciones e
 n sus cuatro secciones. Para que una propuesta de publicación sea tomada
  en cuenta para su inclusión en el número 3 (diciembre)\, ésta deberá
  ser enviada a la dirección de correo electrónico referida hasta el día
  26 de octubre de 2018.\n\n
ATTACH;FMTTYPE=image/jpeg:https://ffyh.unc.edu.ar/wp-content/uploads/2018/
 09/banneretc.jpg
CATEGORIES:Convocatorias
LOCATION:Pabellón Agustín Tosco\, Ciudad Universitaria\, Córdoba\, Argen
 tina
GEO:-31.4374167;-64.18897420000002
X-APPLE-STRUCTURED-LOCATION;VALUE=URI;X-ADDRESS=Ciudad Universitaria\, Cór
 doba\, Argentina;X-APPLE-RADIUS=100;X-TITLE=Pabellón Agustín Tosco:geo:-
 31.4374167,-64.18897420000002
END:VEVENT
END:VCALENDAR