BEGIN:VCALENDAR
VERSION:2.0
PRODID:-//wp-events-plugin.com//7.2.3.1//EN
TZID:America/Argentina/Cordoba
X-WR-TIMEZONE:America/Argentina/Cordoba
BEGIN:VEVENT
UID:0-898@ffyh.unc.edu.ar
DTSTART:20250421T000000Z
DTEND:20250421T000000Z
DTSTAMP:20250328T183355Z
URL:https://ffyh.unc.edu.ar/eventos/convocatoria-programa-de-fortalecimien
 to-academico/
SUMMARY:Convocatoria | Programa de Fortalecimiento Académico
DESCRIPTION:El Programa Universitario en la Cárcel\, la Secretaría Acadé
 mica y la Oficina de Graduadxs de la Facultad de Filosofía y Humanidades 
 de la Universidad Nacional de Córdoba anuncian la apertura de la convoca
 toria para seleccionar 1 TUTORX DE FORTALECIMIENTO A LAS TRAYECTORIAS DE 
 LXS ESTUDIANTES DEL PUC. \n\n
ATTACH;FMTTYPE=image/jpeg:https://ffyh.unc.edu.ar/wp-content/uploads/2025/
 03/convocatoria-puc.jpeg
END:VEVENT
END:VCALENDAR