BEGIN:VCALENDAR
VERSION:2.0
PRODID:-//wp-events-plugin.com//7.2.3.1//EN
TZID:America/Argentina/Cordoba
X-WR-TIMEZONE:America/Argentina/Cordoba
BEGIN:VEVENT
UID:0-495@ffyh.unc.edu.ar
DTSTART:20220908T000000Z
DTEND:20220908T000000Z
DTSTAMP:20220819T171612Z
URL:https://ffyh.unc.edu.ar/eventos/convocatorias-de-intercambio-para-estu
 diantes-de-grado/
SUMMARY:Convocatorias de intercambio para estudiantes de grado
DESCRIPTION:La Prosecretaría de Relaciones Internacionales e Interinstituc
 ionales de la FFyH\, informa que se encuentran abiertas dos nuevas convoc
 atorias de intercambio para estudiantes de grado de todas las carreras 
 de la FFyH:\n\n 	Programa de Cooperación Bilateral para el Intercambio 
 de Estudiantes de Grado de la UNC (PIEG) en universidades de Alemania\, E
 spaña\, Italia\, México\, Reino Unido.\n\nMás info: https://www.unc.edu
 .ar/internacionales/programa-de-cooperaci%C3%B3n-bilateral-para-el-interca
 mbio-de-estudiantes-de-grado-pieg\n\n 	Programa de Movilidad Estudiantil 
 UNC al Mundo (UNCM) en universidades de España\, Alemania y Colombia.\n\
 nMás info: https://www.unc.edu.ar/internacionales/programa-de-movilidad-e
 studiantil-unc-al-mundo-uncm\n\nPara cualquier información\, contactarse 
 al mail: interfilo@ffyh.unc.edu.ar\n\nPresencialmente\, de lunes a vierne
 s de 11 a 13 hs. En la oficina de Secyt. Av. Medina Allende s/n Pabellón
  Residencial\, o en el mismo horario al teléfono: 0351-5353610 int 50045.
ATTACH;FMTTYPE=image/jpeg:https://ffyh.unc.edu.ar/wp-content/uploads/2022/
 08/PIEG.png
CATEGORIES:Becas,Convocatorias
LOCATION:Pabellón Residencial\, Ciudad Universitaria\, Córdoba\, Argentin
 a
GEO:-31.4374167;-64.18897420000002
X-APPLE-STRUCTURED-LOCATION;VALUE=URI;X-ADDRESS=Ciudad Universitaria\, Cór
 doba\, Argentina;X-APPLE-RADIUS=100;X-TITLE=Pabellón Residencial:geo:-31.
 4374167,-64.18897420000002
END:VEVENT
END:VCALENDAR