BEGIN:VCALENDAR
VERSION:2.0
PRODID:-//wp-events-plugin.com//7.2.3.1//EN
TZID:America/Argentina/Cordoba
X-WR-TIMEZONE:America/Argentina/Cordoba
BEGIN:VEVENT
UID:0-658@ffyh.unc.edu.ar
DTSTART:20230801T000000Z
DTEND:20230801T000000Z
DTSTAMP:20230803T171550Z
URL:https://ffyh.unc.edu.ar/eventos/curso-con-puntaje-docente-del-programa
 -jovenes-y-memoria-cordoba/
SUMMARY:Curso con puntaje docente del Programa Jóvenes y Memoria Córdoba
DESCRIPTION:Está organizado por el Espacio para la Memoria Campo de la Rib
 era\, el Programa de Derechos Humanos y la Secretaría de Extensión de la
  FFyH y comienza el 5 de agosto.\n\n
ATTACH;FMTTYPE=image/jpeg:https://ffyh.unc.edu.ar/wp-content/uploads/2023/
 07/WhatsApp-Image-2023-07-17-at-09.45.02.jpeg
CATEGORIES:Convocatorias
END:VEVENT
END:VCALENDAR