BEGIN:VCALENDAR
VERSION:2.0
PRODID:-//wp-events-plugin.com//7.2.3.1//EN
TZID:America/Argentina/Cordoba
X-WR-TIMEZONE:America/Argentina/Cordoba
BEGIN:VEVENT
UID:0-274@ffyh.unc.edu.ar
DTSTART:20200323T000000Z
DTEND:20200410T000000Z
DTSTAMP:20200327T161035Z
URL:https://ffyh.unc.edu.ar/eventos/curso-virtual-de-ley-micaela-para-doce
 ntes-y-nodocentes/
SUMMARY:Curso Virtual de Ley Micaela para Docentes y Nodocentes
DESCRIPTION:El Programa de Género\, Sexualidades y Educación Sexual Integ
 ral de la FFyH informa que hasta el 10 de abril están abiertas las inscri
 pciones para la primera edición del Curso Virtual de Ley Micaela para Doc
 entes y Nodocentes de la UNC propuesto desde el Equipo UNICEPG.\n\n
ATTACH;FMTTYPE=image/jpeg:https://ffyh.unc.edu.ar/wp-content/uploads/2019/
 11/ley-micaela-unc.jpg
CATEGORIES:Seminarios
LOCATION:Ciudad Universitaria\, Ciudad Universitaria\, Córdoba\, Argentina
GEO:-31.4374167;-64.18897420000002
X-APPLE-STRUCTURED-LOCATION;VALUE=URI;X-ADDRESS=Ciudad Universitaria\, Cór
 doba\, Argentina;X-APPLE-RADIUS=100;X-TITLE=Ciudad Universitaria:geo:-31.4
 374167,-64.18897420000002
END:VEVENT
END:VCALENDAR