BEGIN:VCALENDAR
VERSION:2.0
PRODID:-//wp-events-plugin.com//7.2.3.1//EN
TZID:America/Argentina/Cordoba
X-WR-TIMEZONE:America/Argentina/Cordoba
BEGIN:VEVENT
UID:0-252@ffyh.unc.edu.ar
DTSTART:20191114T150000Z
DTEND:20191114T200000Z
DTSTAMP:20191106T190154Z
URL:https://ffyh.unc.edu.ar/eventos/derechos-campesinos/
SUMMARY:Derechos campesinos
DESCRIPTION:A un año de la declaración de los Derechos de lxs campesinxs\
 , el jueves 14 de noviembre se llevarán a cabo una serie de actividades e
 n distintas Facultades de la Universidad Nacional de Córdoba\, organizada
 s por la Facultad de Filosofía y Humanidades y la Facultad de Ciencias So
 ciales de la UNC\, el Movimiento Campesino de Córdoba\, el Centro de Estu
 dios Legales y Sociales (CELS)\, la Mesa de Trabajo  por los DDHH\, La Bi
 sagra y la Secretaría General de la FUC.\n\n
ATTACH;FMTTYPE=image/jpeg:https://ffyh.unc.edu.ar/wp-content/uploads/2019/
 11/derechos-campesinos.jpg
CATEGORIES:Cultura,Jornadas
END:VEVENT
END:VCALENDAR