BEGIN:VCALENDAR
VERSION:2.0
PRODID:-//wp-events-plugin.com//7.2.3.1//EN
TZID:America/Argentina/Cordoba
X-WR-TIMEZONE:America/Argentina/Cordoba
BEGIN:VEVENT
UID:0-505@ffyh.unc.edu.ar
DTSTART:20220914T000000Z
DTEND:20220914T000000Z
DTSTAMP:20220914T200806Z
URL:https://ffyh.unc.edu.ar/eventos/dia-de-las-infancias-en-la-ffyh/
SUMMARY:¡Día de las infancias en la FFyH!
DESCRIPTION:Tarde de pandemonium. Celebración dirigida a hijxs de nodocent
 es\, docentes y estudiantes de nuestra Facu.\n\n
ATTACH;FMTTYPE=image/jpeg:https://ffyh.unc.edu.ar/wp-content/uploads/2022/
 09/pandemonium.jpg
CATEGORIES:Cultura
END:VEVENT
END:VCALENDAR