BEGIN:VCALENDAR
VERSION:2.0
PRODID:-//wp-events-plugin.com//7.2.3.1//EN
TZID:America/Argentina/Cordoba
X-WR-TIMEZONE:America/Argentina/Cordoba
BEGIN:VEVENT
UID:0-712@ffyh.unc.edu.ar
DTSTART:20231028T180000Z
DTEND:20231028T180000Z
DTSTAMP:20231017T171130Z
URL:https://ffyh.unc.edu.ar/eventos/dime-algo-carinoso/
SUMMARY:Dime algo cariñoso
DESCRIPTION:El sábado 28 de octubre a las 18:00\, en la Estación Mitre (B
 v. Perón 101)\, tendrá lugar la actividad “Dime algo cariñoso”\, qu
 e propone un recorrido por historias del Hotel Viña de Italia y sus alred
 edores a través de narraciones\, fotografías\, canciones y objetos.\n\n
ATTACH;FMTTYPE=image/jpeg:https://ffyh.unc.edu.ar/wp-content/uploads/2023/
 10/Vina-de-Italia_IG.jpg
CATEGORIES:Cultura
END:VEVENT
END:VCALENDAR