BEGIN:VCALENDAR
VERSION:2.0
PRODID:-//wp-events-plugin.com//7.2.3.1//EN
TZID:America/Argentina/Cordoba
X-WR-TIMEZONE:America/Argentina/Cordoba
BEGIN:VEVENT
UID:0-270@ffyh.unc.edu.ar
DTSTART:20200310T173000Z
DTEND:20200310T173000Z
DTSTAMP:20200220T195431Z
URL:https://ffyh.unc.edu.ar/eventos/en-que-creen-lxs-argentinxs/
SUMMARY:¿En qué creen lxs argentinxs?
DESCRIPTION:El martes 10 de marzo\, a las 17:30 hs\, en el Museo de Antropo
 logía (Av. Hipólito Yrigoyen 174) se llevará a cabo la presentación de
  la II Encuesta sobre Creencias y Actitudes Religiosas en Argentina (CEIL-
 CONICET)\, a cargo de la Dra. Mariela Mosqueira (CEIL-CONICET-UBA).\n\n
ATTACH;FMTTYPE=image/jpeg:https://ffyh.unc.edu.ar/wp-content/uploads/2020/
 02/98fcf3e2-af34-4d4a-95e3-d6c844265185.jpg
CATEGORIES:Cultura
LOCATION:Museo de Antropología\, Av. Hipólito Yrigoyen 174\, Córdoba\, A
 rgentina
GEO:-31.4227348;-64.1878188
X-APPLE-STRUCTURED-LOCATION;VALUE=URI;X-ADDRESS=Av. Hipólito Yrigoyen 174\
 , Córdoba\, Argentina;X-APPLE-RADIUS=100;X-TITLE=Museo de Antropología:g
 eo:-31.4227348,-64.1878188
END:VEVENT
END:VCALENDAR