BEGIN:VCALENDAR
VERSION:2.0
PRODID:-//wp-events-plugin.com//7.2.3.1//EN
TZID:America/Argentina/Cordoba
X-WR-TIMEZONE:America/Argentina/Cordoba
BEGIN:VEVENT
UID:0-555@ffyh.unc.edu.ar
DTSTART:20221115T000000Z
DTEND:20221115T000000Z
DTSTAMP:20221115T154649Z
URL:https://ffyh.unc.edu.ar/eventos/encuentro-informativo-postulacion-beca
 s-evc-cin-2022/
SUMMARY:Encuentro informativo | Postulación Becas EVC - CIN 2022
DESCRIPTION:La Secretaría de Investigación\, Ciencia y Técnica de la FFy
 H invita a lxs interesadxs en las becas EVC-CIN a sumarse este martes 15 d
 e noviembre a las 15hs.\, a un encuentro para repasar las bases de la conv
 ocatoria\, los pasos para la presentación y despejar dudas.\n\n
ATTACH;FMTTYPE=image/jpeg:https://ffyh.unc.edu.ar/wp-content/uploads/2022/
 11/Charla-ECV-CIN-2022.jpg
CATEGORIES:Becas
LOCATION:Pabellón Residencial\, Ciudad Universitaria\, Córdoba\, Argentin
 a
GEO:-31.4374167;-64.18897420000002
X-APPLE-STRUCTURED-LOCATION;VALUE=URI;X-ADDRESS=Ciudad Universitaria\, Cór
 doba\, Argentina;X-APPLE-RADIUS=100;X-TITLE=Pabellón Residencial:geo:-31.
 4374167,-64.18897420000002
END:VEVENT
END:VCALENDAR