BEGIN:VCALENDAR
VERSION:2.0
PRODID:-//wp-events-plugin.com//7.2.3.1//EN
TZID:America/Argentina/Cordoba
X-WR-TIMEZONE:America/Argentina/Cordoba
BEGIN:VEVENT
UID:0-248@ffyh.unc.edu.ar
DTSTART:20191108T180000Z
DTEND:20191108T210000Z
DTSTAMP:20191104T195108Z
URL:https://ffyh.unc.edu.ar/eventos/encuentro-lenguaje-y-metafisica/
SUMMARY:Encuentro “Lenguaje y Metafísica”
DESCRIPTION:Se llevará a cabo el viernes 8 de noviembre\, de 18 a 21hs.\, 
 en el Aula Verdugo del Pabellón Francia (Ciudad Universitaria).\n\n
ATTACH;FMTTYPE=image/jpeg:https://ffyh.unc.edu.ar/wp-content/uploads/2019/
 11/lenguaje-metafisica.jpg
CATEGORIES:Jornadas
LOCATION:Pabellón Francia\, Ciudad Universitaria\, Córdoba\, Córdoba\, A
 rgentina
GEO:-31.4374167;-64.18897420000002
X-APPLE-STRUCTURED-LOCATION;VALUE=URI;X-ADDRESS=Ciudad Universitaria\, Cór
 doba\, Córdoba\, Argentina;X-APPLE-RADIUS=100;X-TITLE=Pabellón Francia:g
 eo:-31.4374167,-64.18897420000002
END:VEVENT
END:VCALENDAR