BEGIN:VCALENDAR
VERSION:2.0
PRODID:-//wp-events-plugin.com//7.2.3.1//EN
TZID:America/Argentina/Cordoba
X-WR-TIMEZONE:America/Argentina/Cordoba
BEGIN:VEVENT
UID:0-246@ffyh.unc.edu.ar
DTSTART:20191028T000000Z
DTEND:20191104T000000Z
DTSTAMP:20191029T193008Z
URL:https://ffyh.unc.edu.ar/eventos/enfilo-2019-derecho-al-acceso-abierto/
SUMMARY:EnFilo 2019. Derecho al Acceso Abierto
DESCRIPTION:\nComo todos los años\, la Facultad de Filosofía y Humanidade
 s adhiere a la Semana Mundial del Acceso Abierto que propone entender la e
 ducación\, la ciencia\, la cultura y la tecnología como derechos humanos
 .\n\n
ATTACH;FMTTYPE=image/jpeg:https://ffyh.unc.edu.ar/wp-content/uploads/2019/
 10/EN-FILO-AA.png
CATEGORIES:Jornadas
END:VEVENT
END:VCALENDAR